BEGIN:VCALENDAR
VERSION:2.0
PRODID:-//FIW //NONSGML Events //EN
CALSCALE:GREGORIAN
X-WR-CALNAME:FIW
BEGIN:VEVENT
CREATED:20251215T082328Z
UID:7636
DTEND:20260119T093000Z
DTSTART:20260119T083000Z
DTSTAMP:20260419T201458Z
LOCATION:Stubenring 1\, 1010 Wien BMWET\, 1. Stock\, Marmorsaal (Saal I)
DESCRIPTION:Das Bundesministerium für Wirtschaft\, Energie und Tourismus (BMWET) sowie
  der Forschungsschwerpunkt Internationale Wirtschaft (FIW) laden ein zur 64
 . FIW-Vorlesung „Ein Jahr America First: Bilanz der US-Handelspolitik unt
 er Trump“ Univ.-Prof. MMag. Dr. Harald Oberhofer (FIW\, WU Wien\, WIFO) D
 iskussionsleitung: Dr. Robert Stehrer (FIW\, wiiw) Koreferat: Mag. Robert H
 eiling M.A. (BMWET) Literatur: 72. FIW Policy Brief „One Year of America 
 First: The Impact of Trump’s Trade Policies“ (Jänner 2026) Montag\, 19
 . Jänner 2026\, 9:30 h (pünktlich) bis 10:30 h Stubenring 1\, 1010 Wien\,
  1. Stock\, Marmorsaal (Saal I) FIW-Vorlesungen ist eine Veranstaltungsreih
 e\, bei der politikrelevante aktuelle For-schungsergebnisse aus dem Bereich
  internationale Wirtschaft praxisnah präsentiert und diskutiert werden. An
 meldung erforderlich unter: https://www.fiw.ac.at/signupforms/64-fiw-vorles
 ung/ Aufgrund begrenzter Raumkapazitäten ist eine Anmeldung jedenfalls erf
 orderlich.
SUMMARY:64. FIW-Vorlesung: Ein Jahr America First: Bilanz der US-Handelspolitik unt
 er Trump
ORGANIZER:FIW
URL;VALUE=URI:https://www.fiw.ac.at/event/64-fiw-vorlesung-ein-jahr-america-first-bilanz-
 der-us-handelspolitik-unter-trump/
TRANSP:OPAQUE
BEGIN:VALARM
ACTION:DISPLAY
TRIGGER;VALUE=DATE-TIME:20260119
DESCRIPTION:Reminder for 64. FIW-Vorlesung: Ein Jahr America First: Bilanz der US-Handelspolitik unt
 er Trump
END:VALARM
END:VEVENT
END:VCALENDAR
