BEGIN:VCALENDAR
VERSION:2.0
PRODID:-//FIW //NONSGML Events //EN
CALSCALE:GREGORIAN
X-WR-CALNAME:FIW
BEGIN:VEVENT
CREATED:20230306T110333Z
UID:2466
DTEND:20230314T150000Z
DTSTART:20230314T140000Z
DTSTAMP:20260421T090622Z
LOCATION:The Vienna Institute for International Economic Studies (wiiw)\, 1060 Vien
 na
DESCRIPTION:Das Kompetenzzentrum für Internationale Wirtschaftsforschung (FIW) lädt e
 in zur Teilnahme am Seminar in International Economics zum Thema Die neue E
 U-Industriepolitik (Hybridveranstaltung) Bernhard Dachs Österreichisches I
 nstitut für Technologie (AIT) Dienstag\, 14. März 2023\, 15:00 Uhr (MEZ) 
 Veranstaltungsort: Wiener Institut für Internationale Wirtschaftsvergleich
 e (wiiw)\, Rahlgasse 3\, 1060 Wien Anmeldelink für die Teilnahme vor Ort: 
 https://wiiw.ac.at/the-new-eu-industrial-policy-er-615.html Anmeldelink fü
 r die Online-Teilnahme: https://us06web.zoom.us/webinar/register/WN_2LA8t-1
 ESBSSV5a8_t8AMg Zusammenfassung: In den vergangenen 30 Jahren war die horiz
 ontale Industriepolitik in der Europäischen Union ein No-Go. Mit dem Ausbr
 uch von Covid-19 hat sich dies jedoch geändert. Die EU hat in den letzten 
 Jahren mehrere politische Initiativen eingeführt\, die sich auf bestimmte 
 Branchen oder Technologien konzentrieren. Der Vortrag gibt einen Überblick
  über diese Initiativen und erörtert ihre Ursprünge\, Beweggründe und g
 emeinsamen Merkmale. Außerdem wird die Frage aufgeworfen\, ob sich diese I
 nitiativen als erfolgreich erweisen werden oder nicht. Die Seminarreihe wir
 d vom Wiener Institut für Internationale Wirtschaftsvergleiche (wiiw) in Z
 usammenarbeit mit dem FIW\, dem Kompetenzzentrum für Internationale Wirtsc
 haft\, organisiert. Das Seminar bietet ein Forum für die Präsentation und
  Diskussion aktueller akademischer Forschung im Bereich der internationalen
  Wirtschaft.
SUMMARY:Seminar in internationaler Wirtschaft: Die neue EU-Industriepolitik
ORGANIZER:FIW
URL;VALUE=URI:https://www.fiw.ac.at/event/seminar-in-international-economics-the-new-eu-i
 ndustrial-policy-hybrid-event-14-03-2023/
TRANSP:OPAQUE
BEGIN:VALARM
ACTION:DISPLAY
TRIGGER;VALUE=DATE-TIME:20230314
DESCRIPTION:Reminder for Seminar in internationaler Wirtschaft: Die neue EU-Industriepolitik
END:VALARM
END:VEVENT
END:VCALENDAR
