BEGIN:VCALENDAR
VERSION:2.0
PRODID:-//FIW //NONSGML Events //EN
CALSCALE:GREGORIAN
X-WR-CALNAME:FIW
BEGIN:VEVENT
CREATED:20251215T082328Z
UID:7638
DTEND:20260119T093000Z
DTSTART:20260119T083000Z
DTSTAMP:20260419T183415Z
LOCATION:Stubenring 1\, 1010 Wien BMWET\, 1. Stock\, Marmorsaal (Saal I)
DESCRIPTION:The Federal Ministry for Economic Affairs\, Energy and Tourism (BMWET) and 
 the Research Centre International Economics (FIW) at invite you to attend t
 he 64th FIW Lecture "One Year of America First: Taking Stock of US Trade Po
 licy under Trump" Univ.-Prof. MMag. Dr. Harald Oberhofer (FIW\, WU Vienna\,
  WIFO) Moderator: Dr. Robert Stehrer (FIW\, wiiw) Co-speaker: Mag. Robert H
 eiling M.A. (BMWET) Literature: 72nd FIW Policy Brief "One Year of America 
 First: The Impact of Trump's Trade Policies" (to be published in January 20
 26) Monday\, 19 January 2026\, 9:30 a.m. (sharp) to 10:30 a.m. Stubenring 1
 \, 1010 Vienna\, 1st floor\, Marble Hall (Hall I) FIW Lectures is a series 
 of events at which current research findings from the field of internationa
 l economics that are relevant to politics are presented and discussed in a 
 practical manner. Please complete your registration at: https://www.fiw.ac.
 at/signupforms/64-fiw-vorlesung/ Due to limited space\, registration is req
 uired in any case.
SUMMARY:64th FIW Lecture: One Year of America First: Taking Stock of US Trade Polic
 y under Trump
ORGANIZER:FIW
URL;VALUE=URI:https://www.fiw.ac.at/en/event/64th-fiw-lecture-one-year-of-america-first-t
 aking-stock-of-us-trade-policy-under-trump/
TRANSP:OPAQUE
BEGIN:VALARM
ACTION:DISPLAY
TRIGGER;VALUE=DATE-TIME:20260119
DESCRIPTION:Reminder for 64th FIW Lecture: One Year of America First: Taking Stock of US Trade Polic
 y under Trump
END:VALARM
END:VEVENT
END:VCALENDAR
