BEGIN:VCALENDAR
VERSION:2.0
PRODID:-//FIW //NONSGML Events //EN
CALSCALE:GREGORIAN
X-WR-CALNAME:FIW
BEGIN:VEVENT
CREATED:20250311T104852Z
UID:6817
DTEND:20250325T093000Z
DTSTART:20250325T083000Z
DTSTAMP:20260420T142120Z
LOCATION:Stubenring 1\, 1010 Wien\, 1. Stock\, Marmorsaal (Saal I)
DESCRIPTION:Das Bundesministerium für Arbeit und Wirtschaft sowie das FIW laden ein zu
 r 58. FIW-Vorlesung "Präsentation des Policy Briefs "Chinas Seidenstraßen
 -Initiative im Wandel"  Datum: Dienstag\, 25. März 2025 Zeit: 9:30 (pünkt
 lich) – 10:30 Uhr Ort: Stubenring 1\, 1010 Wien\, 1. Stock\, Marmorsaal (
 Saal I) Sprache: Deutsch Vortragende: Mag. Waltraut Urban (wiiw) Koreferat:
  Mag. Elisabeth Weissenböck (BMAW) Begrüßung: FSC Cynthia Zimmermann (BM
 AW) Diskussionsleitung: Dr. Manfred Schekulin (BMAW) Literatur: 66. FIW Pol
 icy Brief „China’s Belt and Road Initiative revisited“    FIW-Vorles
 ungen ist eine Veranstaltungsreihe\, bei der politikrelevante aktuelle Fors
 chungsergebnisse aus dem Bereich internationale Wirtschaft praxisnah präse
 ntiert und diskutiert werden. Für Kaffee ist gesorgt. Anmeldung erforderli
 ch unter: https://www.fiw.ac.at/signupforms/anmeldeformular-fuer-58-fiw-vor
 lesung-praesentation-des-policy-briefs-chinas-seidenstrassen-initiative-im-
 wandel/ Aufgrund begrenzter Raumkapazitäten ist eine Anmeldung jedenfalls 
 erforderlich.
SUMMARY:58. FIW-Vorlesung: Präsentation des Policy Briefs “Chinas Seidenstraßen
 -Initiative im Wandel”
ORGANIZER:FIW
URL;VALUE=URI:https://www.fiw.ac.at/en/event/58-fiw-vorlesung-praesentation-des-policy-br
 iefs-chinas-seidenstrassen-initiative-im-wandel/
TRANSP:OPAQUE
BEGIN:VALARM
ACTION:DISPLAY
TRIGGER;VALUE=DATE-TIME:20250325
DESCRIPTION:Reminder for 58. FIW-Vorlesung: Präsentation des Policy Briefs “Chinas Seidenstraßen
 -Initiative im Wandel”
END:VALARM
END:VEVENT
END:VCALENDAR
