BEGIN:VCALENDAR
VERSION:2.0
PRODID:-//FIW //NONSGML Events //EN
CALSCALE:GREGORIAN
X-WR-CALNAME:FIW
BEGIN:VEVENT
CREATED:20241002T133240Z
UID:6368
DTEND:20241112T130000Z
DTSTART:20241112T130000Z
DTSTAMP:20260420T084907Z
LOCATION:Online
DESCRIPTION:The Competence Centre for International Economics Research (FIW) kindly inv
 ites to participate in the Seminar in International Economics on the topic 
 Missing tariffs -Errors in tariff data and their impact on trade policy stu
 dies Speaker: Feodora Teti\, PhD (LMU & ifo Institute) Discussant: Dela-Dem
  Doe Fiankor\, PhD  (University of Göttingen)  Venue: This is an online e
 vent - please register here  <p class="mb-5">Join Feodora Teti as she explo
 res how misreported tariff data impacts trade policy studies and introduces
  selection bias. <p class="mb-5">Many studies use tariff data to measure ch
 anges in trade policy. This paper reveals significant errors in one of the 
 standard sources for tariff rates\, the World Integrated Trade Solution (WI
 TS)\, due to incomplete reporting—resulting in measurement errors from fa
 lse interpolation—and selection bias from dropping tariff rates when no t
 rade is recorded. A new interpolation algorithm is proposed to account for 
 misreporting\, and the resulting global tariff dataset is used to demonstra
 te the practical relevance of missing tariffs by replicating recent studies
  that rely on WITS data. The findings show that studies leveraging cross-co
 untry tariff variation\, such as estimates of trade elasticity\, are partic
 ularly sensitive to the mishandling of tariff data.  This event is co-organ
 ised with the Vienna Institute for International Economic Studies (wiiw) an
 d the Research Centre International Economics (FIW).  The seminar provides
  a forum for presentation and discussion of recent academic research in the
  field of international economics. This event will be recorded.
SUMMARY:Seminar in International Economics: Missing tariffs -Errors in tariff data 
 and their impact on trade policy studies
ORGANIZER:FIW
URL;VALUE=URI:https://www.fiw.ac.at/en/event/seminar-in-international-economics-missing-t
 ariffs-errors-in-tariff-data-and-their-impact-on-trade-policy-studies/
TRANSP:OPAQUE
BEGIN:VALARM
ACTION:DISPLAY
TRIGGER;VALUE=DATE-TIME:20241112
DESCRIPTION:Reminder for Seminar in International Economics: Missing tariffs -Errors in tariff data 
 and their impact on trade policy studies
END:VALARM
END:VEVENT
END:VCALENDAR
