BEGIN:VCALENDAR
VERSION:2.0
PRODID:-//FIW //NONSGML Events //EN
CALSCALE:GREGORIAN
X-WR-CALNAME:FIW
BEGIN:VEVENT
CREATED:20240425T174905Z
UID:6042
DTEND:20240606T100000Z
DTSTART:20240606T070000Z
DTSTAMP:20260421T090821Z
LOCATION:Online-Webinar
DESCRIPTION:The Federal Ministry of Labor and Economy\, the Research Centre Internation
 al Economics and the Federal Academy of Administration invite to the semina
 r B5 (2024): Current challenges of the European integration process  Lectur
 er: Hon.Prof. (FH) MMag. Christian Mandl (WKO) Topics: 1. Overview  Histori
 cal outline: from the European Coal and Steel Community to the world's deep
 est trading alliance Competences of the EU Division of work between the Eur
 opean institutions and the nation states Decision-making in Europe European
  governance compared to other economic blocs  2. Economic relevance of the 
 EU  Illustrative examples: e.g. most important trading partner of around 80
  countries  3.  Up-to-date topic\, adapted to the time of the presentation
 \, e.g.  Energy policy in Europe: current situation\, infrastructure\, reso
 urces\, dependencies and opportunities Green Deal The role of the EU in the
  geopolitical environment EU enlargements: structural and foreign policy ch
 allenges and opportunities  The webinar is part of the Foreign Trade and In
 vestment Curriculum 2023/24. More information about the Foreign Trade Curri
 culum.
SUMMARY:AW-Curriculum: Current challenges of the European integration process
ORGANIZER:FIW
URL;VALUE=URI:https://www.fiw.ac.at/en/event/aw-curriculum-current-challenges-of-the-euro
 pean-integration-process/
TRANSP:OPAQUE
BEGIN:VALARM
ACTION:DISPLAY
TRIGGER;VALUE=DATE-TIME:20240606
DESCRIPTION:Reminder for AW-Curriculum: Current challenges of the European integration process
END:VALARM
END:VEVENT
END:VCALENDAR
