BEGIN:VCALENDAR
VERSION:2.0
PRODID:-//FIW //NONSGML Events //EN
CALSCALE:GREGORIAN
X-WR-CALNAME:FIW
BEGIN:VEVENT
CREATED:20230711T060919Z
UID:4143
DTEND:20240111T110000Z
DTSTART:20240111T080000Z
DTSTAMP:20260421T085317Z
LOCATION:Online-Webinar
DESCRIPTION:The Federal Ministry of Labor and Economy\, the Competence Center Research 
 Focus International Economics and the Federal Academy of Administration inv
 ite to the seminar W2 (2023): Migration\, refugee integration and foreign t
 rade  Lecturers: Judith Kohlenberger (WU)\; Michael Landesmann (JKU Linz\, 
 wiiw) Topics:  Migration as a global phenomenon   Importance of migration a
 t the global level The development dimension: common and divergent interest
 s between "rich" and "poor" countries − Remittances and educated\, innova
 tive returnees as an opportunity for developing countries − Brain drain\,
  ageing and disadvantages in the "war for talent" as the other side of the 
 coin − Global migration dynamics and models  2. Migration and Austria  Hi
 storical outline of immigration and emigration from/to Austria − Country 
 of destination or origin − Reasons for migration − Qualification of the
  emigrants/immigrants Legal framework in Austria − Free movement of perso
 ns in the EU − Red-White-Red Card − Asylum  3. Foreign trade effects  E
 conomic effects of immigration on value creation\, labour market/demographi
 cs\, innovative strength in Europe and Austria Emergence of new external ec
 onomic relations due to migration Migration as a means of exerting pressure
  in international negotiations (Turkey\, Belarus) Political reactions − R
 ise of populist movements − Increasing economic protectionism  4. Case st
 udy Ukraine  Possible effects of the flight movement for Ukraine and the de
 stination countries Structure\, qualification and lead probabilities of the
  flight movement from Ukraine  The webinar is part of the Foreign Trade and
  Investment Curriculum 2023/24. More information about the Foreign Trade Cu
 rriculum.
SUMMARY:AW-Curriculum: Migration\, refugee integration and foreign trade
ORGANIZER:FIW
URL;VALUE=URI:https://www.fiw.ac.at/en/event/aw-curriculum-migration-refugee-integration-
 and-foreign-trade/
TRANSP:OPAQUE
BEGIN:VALARM
ACTION:DISPLAY
TRIGGER;VALUE=DATE-TIME:20240111
DESCRIPTION:Reminder for AW-Curriculum: Migration\, refugee integration and foreign trade
END:VALARM
END:VEVENT
END:VCALENDAR
