BEGIN:VCALENDAR
VERSION:2.0
PRODID:-//FIW //NONSGML Events //EN
CALSCALE:GREGORIAN
X-WR-CALNAME:FIW
BEGIN:VEVENT
CREATED:20230313T154133Z
UID:2598
DTEND:20221210
DTSTART:20221209
DTSTAMP:20260420T123405Z
LOCATION:Arsenal 20\, 1030 Vienna WIFO
DESCRIPTION:Dates:  December 9th - December 10th\, 2022 Venue: Austrian Institute of
  Economic Research\, Arsenal Objekt 20\, A-1030 Vienna Funded by: Austrian 
 Institute of Economic Research\, Austria ETH Zürich\, SwitzerlandFIW\, Aus
 tria LeBow College of Business\, Drexel University\, USA University of Inns
 bruck\, Department of Economics\, Austria\, Organizers:Peter Egger\, Alexan
 der Hudetz\, Harald Oberhofer\, Michael Pfaffermayr\, Farid Toubal\, Yoto V
 . Yotov Special Issue: The European Economic Review is publishing a special
  issue on 'Gravity at Sixty: Theory\, Estimation\, Applications\, and Polic
 y Implication'All information and details how to submit can be found at: ht
 tps://www.journals.elsevier.com/european-economic-review/call-for-papers/gr
 avity-at-sixty-theory-estimation-applications-and-policy-implications The c
 all is open to all interested authors and not restricted to participants of
  the "Gravity at Sixty" Workshop in Vienna. Submission window: 1st December
  2022 - 3rd January 2023 Program: December 9th\, 2022 Session I: 1.00 p.m. 
 – 3.00 p.m. Mario Larch: Estimating the Effects of Trade Agreements: Less
 ons From 60 Years of Methods and Data Tom Zylkin: The Effects of Free Trade
  Agreements on Product-level Trade Feodora Teti: The Trade Creating Effects
  of NTBs: Heterogeneities and Complementarities Break: 3:00 p.m. - 3.30 p.m
 . Session II: 3.30 p.m. - 5.30 p.m. Amrei Stammann: Latent Structures in Cr
 oss-Section Gravity Models Michael Pfaffermayr: Bonus-Vetus-OLS for Gravity
  Models and Its Approximation Error Scott Baier: Gravity with trade shocks 
 Break: 5.30 p.m. - 6.00 p.m. Keynote lecture I: 6.00 p.m. - 7.00 p.m. James
  Anderson: Back to the Future: Gravity at Sixty   December 10th\, 2022 Ses
 sion III: 9.00 a.m. - 10.20 a.m. Peter Egger:  Decomposing China's Bilater
 al Export Growth: A Firm-transaction Structural Gravity Approach Inga Heila
 nd: Frictions to intranational investment Break: 10:20 a.m. - 10.50 a.m. Se
 ssion IV: 10.50 a.m. - 12.50 a.m. Joschka Wanner: The Consequences of Unila
 teral Withdrawals from the Paris Agreement Jeffrey Bergstrand: Increasing M
 arginal Costs\, Firm Heterogeneity\, and the Gains from “Deep”Internati
 onal Trade Agreements Lisandra Flach: Quantifying the Effect of NTBs on tra
 de flows: Evidence from Brexit Lunch: 12.00 p.m. – 1.00 p.m. Keynote lect
 ure II: 2.00 p.m. - 3.00 p.m. Arnaud Costinot: “Putting Quantitative Mode
 ls to the Test: Evidence from the Trump Tariffs” Adjourn
SUMMARY:FIW-Workshop: Gravity at Sixty
ORGANIZER:FIW
URL;VALUE=URI:https://www.fiw.ac.at/en/event/fiw-workshop-gravity-at-sixty/
TRANSP:OPAQUE
BEGIN:VALARM
ACTION:DISPLAY
TRIGGER;VALUE=DATE-TIME:20221208
DESCRIPTION:Reminder for FIW-Workshop: Gravity at Sixty
END:VALARM
END:VEVENT
END:VCALENDAR
