BEGIN:VCALENDAR
VERSION:2.0
PRODID:-//FIW //NONSGML Events //EN
CALSCALE:GREGORIAN
X-WR-CALNAME:FIW
BEGIN:VEVENT
CREATED:20230309T162410Z
UID:2586
DTEND:20230308T150000Z
DTSTART:20230308T120000Z
DTSTAMP:20260421T103107Z
LOCATION:Stubenring 1\, 1010 Wien BMAW\, Gobelinsaal
DESCRIPTION:Time:              March 8\, 2023\, 1:00 p.m. – 4:00 p.m. Venue:
            Federal Ministry Labour and Economy (BMAW)Gobelinsaal (Saal
  II)Stubenring 1A-1010 Vienna Contact:        FIW-Project Office (fiw-p
 b@fiw.ac.at) We kindly ask for registration:https://wiiw.ac.at/workshop-wom
 en-in-international-economics-er-618.html Program 13:00 - 13:15        
         Opening Remarks Eva Landrichtinger (BMAW) 13:15 – 13:45    
             OECD-Country Report “FDI Qualities Review of Austria:Cl
 osing gender gaps and empowering women”  Letizia Montinari and Katharina 
 Längle (OECD) Presentation 13:45 – 14:15                Interim 
 Report “Women in Austrian International Trade” (Study commissioned by B
 MAW) Birgit Meyer (WIFO) Presentation 14:15 – 14:30               
  Coffee Break 14:30 – 15:15               Keynote Lecture “Gend
 er pay gap: Reasons and policies to reduce it Christine Zulehner (Universi
 ty Vienna) Presentation 15:15 – 15:45                Presentation
  “Trade Policies and Trade Integration - Not just an International Issue
  Julia Spornberger (University Hohenheim\, FIW-Award Winner 2018) Present
 ation 15:45 – 16:00                FIW Award for Master Theses in
  International Economics Presented by Eva Landrichtinger (BMAW) and HaraldO
 berhofer (Vienna University of Economics and Business\, WIFO) awarded to Ni
 cole Sattler (BMF) and Johanna Treiber (Deutsche Bundesbank) 16:00      
                        Informal Get-together Moderation:     
           Olga Pindyuk (wiiw)
SUMMARY:FIW-Workshop Women in International Economics
ORGANIZER:FIW
URL;VALUE=URI:https://www.fiw.ac.at/en/event/fiw-workshop-women-in-international-economic
 s-08-03-2023/
TRANSP:OPAQUE
BEGIN:VALARM
ACTION:DISPLAY
TRIGGER;VALUE=DATE-TIME:20230308
DESCRIPTION:Reminder for FIW-Workshop Women in International Economics
END:VALARM
END:VEVENT
END:VCALENDAR
