BEGIN:VCALENDAR
VERSION:2.0
PRODID:-//FIW //NONSGML Events //EN
CALSCALE:GREGORIAN
X-WR-CALNAME:FIW
BEGIN:VEVENT
CREATED:20230221T113242Z
UID:2300
DTEND:20230313T093000Z
DTSTART:20230313T083000Z
DTSTAMP:20260419T181434Z
LOCATION:Stubenring 1\, 1. Stock\, Marmorsaal (Saal I) 1010 Wien
DESCRIPTION:The Federal Ministry of Labour and Economic Affairs and the FIW invite you 
 to the 49th FIW Lecture "The European Chip Law" Dr. Bernhard Dachs (AIT) We
 lcome: Section Head Cynthia Zimmermann (BMAW) Koreferat: Tanja Misic\, MA (
 BMAW) Chair of discussion:Dr. Manfred Schekulin (BMAW) Literature:FIW Polic
 y Brief No. 58 (March 2023) FIW Lectures is a series of events in which pol
 icy-relevant current research results from the field of international econo
 mics are presented and discussed in a practical manner. Coffee is provided.
  Registration required   Download: Einladung_49._FIW-Vorlesung Download Pr
 äsentation Dachs Download Präsentation Misic
SUMMARY:49th FIW Lecture “The European Chip Law”
ORGANIZER:FIW
URL;VALUE=URI:https://www.fiw.ac.at/en/event/49th-fiw-lecture-the-european-chip-law-13-03
 -2023__trashed/
TRANSP:OPAQUE
BEGIN:VALARM
ACTION:DISPLAY
TRIGGER;VALUE=DATE-TIME:20230313
DESCRIPTION:Reminder for 49th FIW Lecture “The European Chip Law”
END:VALARM
END:VEVENT
END:VCALENDAR
