BEGIN:VCALENDAR
VERSION:2.0
PRODID:-//FIW //NONSGML Events //EN
CALSCALE:GREGORIAN
X-WR-CALNAME:FIW
BEGIN:VEVENT
CREATED:20230221T113459Z
UID:2108
DTEND:20221129T190000Z
DTSTART:20221129T173000Z
DTSTAMP:20260422T085816Z
LOCATION:Josefstaedter Straße 39 Complexity Science Hub Vienna 1080 Vienna
DESCRIPTION:Our colleagues from the Complexity Science Hub Vienna invite  to a public 
 panel discussion on the future and resilience of supply chains.   Supply c
 hain disruptions are greatly affecting the functioning of the post-Covid wo
 rld economy. What can science\, companies and governments do to increase th
 e resilience of supply chains? This panel brings together internationally l
 eading scientists\, policymakers\, and corporate experts to discuss how cur
 rent challenges\, such as the Ukraine war or the climate crisis\, can be ad
 dressed with new data-driven\, interdisciplinary models. We discuss how rea
 l-time knowledge of detailed firm-level supply chains can be used to design
  better policies for a more resilient economy.   For more details and regi
 stration please visit the Event-Website
SUMMARY:Public Panel: HOW CAN BIG DATA HELP US IMPROVE SUPPLY CHAIN RESILIENCE?
ORGANIZER:FIW
URL;VALUE=URI:https://www.fiw.ac.at/en/event/public-panel-how-can-big-data-help-us-improv
 e-supply-chain-resilience/
TRANSP:OPAQUE
BEGIN:VALARM
ACTION:DISPLAY
TRIGGER;VALUE=DATE-TIME:20221129
DESCRIPTION:Reminder for Public Panel: HOW CAN BIG DATA HELP US IMPROVE SUPPLY CHAIN RESILIENCE?
END:VALARM
END:VEVENT
END:VCALENDAR
